BEGIN:VCALENDAR
VERSION:2.0
PRODID:-//eventon.com NONSGML v1.0//EN
CALSCALE:GREGORIAN
METHOD:PUBLISH
BEGIN:VEVENT
UID:69e5fe46bd24a
DTSTAMP:20260420T102158Z
DTSTART:20220526
DTEND:20220527
LOCATION:Wolubilis Rue Lola Bobesco 5\,  1200 Woluwe-Saint-Lambert
SUMMARY:SPECTACLE ALAETI 26mai
DESCRIPTION:SPECTACLE ALAETI 26mai\nhttps://www.alaeti.be/events/spectacle-
 alaeti-26mai/
URL:https://www.alaeti.be/events/spectacle-alaeti-26mai/
END:VEVENT
END:VCALENDAR