BEGIN:VCALENDAR
VERSION:2.0
PRODID:-//eventon.com NONSGML v1.0//EN
CALSCALE:GREGORIAN
METHOD:PUBLISH
BEGIN:VEVENT
UID:69e74876ef30f
DTSTAMP:20260421T095046Z
DTSTART:20250811
DTEND:20250812
LOCATION:Wolubilis Rue Lola Bobesco 5\,  1200 Woluwe-Saint-Lambert
SUMMARY:Stage d'Eté - «Initiation Break Dance & Cirque»  7-10 ans (Wolubilis) (4 jours)
DESCRIPTION:Stage d'Eté - «Initiation Break Dance & Cirque» 7-10 ans (Wo
 lubilis) (4 jours)\nhttps://www.alaeti.be/events/stage-dete-initiation-brea
 k-dance-cirque-7-10-ans-wolubilis-4-jours/
URL:https://www.alaeti.be/events/stage-dete-initiation-break-dance-cirque-7-10-ans-wolubilis-4-jours/
END:VEVENT
END:VCALENDAR