BEGIN:VCALENDAR
VERSION:2.0
PRODID:-//eventon.com NONSGML v1.0//EN
CALSCALE:GREGORIAN
METHOD:PUBLISH
BEGIN:VEVENT
UID:69e5eb9f743a7
DTSTAMP:20260420T090223Z
DTSTART:20230814
DTEND:20230815
LOCATION:Wolubilis Rue Lola Bobesco 5\,  1200 Woluwe-Saint-Lambert
SUMMARY:Stage d'été - La forêt enchantée
DESCRIPTION:Stage d'été - La forêt enchantée\nhttps://www.alaeti.be/eve
 nts/stage-dete-la-foret-enchantee-2/
URL:https://www.alaeti.be/events/stage-dete-la-foret-enchantee-2/
END:VEVENT
END:VCALENDAR