BEGIN:VCALENDAR
VERSION:2.0
PRODID:-//eventon.com NONSGML v1.0//EN
CALSCALE:GREGORIAN
METHOD:PUBLISH
BEGIN:VEVENT
UID:69e7377d4b5a3
DTSTAMP:20260421T083821Z
DTSTART:20221225
DTEND:20221226
LOCATION:
SUMMARY:Férié
DESCRIPTION:Férié\nhttps://www.alaeti.be/events/ferie-11/
URL:https://www.alaeti.be/events/ferie-11/
END:VEVENT
END:VCALENDAR