BEGIN:VCALENDAR
VERSION:2.0
PRODID:-//eventon.com NONSGML v1.0//EN
CALSCALE:GREGORIAN
METHOD:PUBLISH
BEGIN:VEVENT
UID:69e5f258a1b03
DTSTAMP:20260420T093104Z
DTSTART:20211225
DTEND:20211226
LOCATION:
SUMMARY:Férié
DESCRIPTION:Férié\nhttps://www.alaeti.be/events/ferie-2/
URL:https://www.alaeti.be/events/ferie-2/
END:VEVENT
END:VCALENDAR