BEGIN:VCALENDAR
VERSION:2.0
PRODID:-//eventon.com NONSGML v1.0//EN
CALSCALE:GREGORIAN
METHOD:PUBLISH
BEGIN:VEVENT
UID:69eca6ee2ed84
DTSTAMP:20260425T113510Z
DTSTART:20220404
DTEND:20220405
LOCATION:Stockel Rue longue 6\,  1150 Woluwe-Saint-Pierre
SUMMARY:Stage de Pâques - Zootopia
DESCRIPTION:Stage de Pâques - Zootopia\nhttps://www.alaeti.be/events/zooto
 pia/
URL:https://www.alaeti.be/events/zootopia/
END:VEVENT
END:VCALENDAR